BEGIN:VCALENDAR
VERSION:2.0
PRODID:-//ChamberMaster//Event Calendar 2.0//EN
METHOD:PUBLISH
X-PUBLISHED-TTL:P3D
REFRESH-INTERVAL:P3D
CALSCALE:GREGORIAN
BEGIN:VEVENT
DTSTART:20201221T020000Z
DTEND:20201221T030000Z
X-MICROSOFT-CDO-ALLDAYEVENT:FALSE
SUMMARY:BRING BACK THE LIGHT
DESCRIPTION:A moment of celebration\, solidarity and reflection\n\nJoin fellow Alaskans by shining a light at 5 p.m. on Sunday\, Dec. 20\, 2020\nAs we approach the shortest day of 2020\, we encourage Alaskans to pause and celebrate the return of the light. This has been a difficult year for everyone in different ways\, but Alaskans have shown considerable strength to adapt and take care of themselves and each other. During Bring Back the Light\, Alaskans will come together to support one another and our communities\, take pride in our resiliency and look forward to brighter days ahead.\n\n\n\nHow to PARTICIPATE:\n\nIn advance of the event\, create lights or lanterns in your homes and neighborhoods. Visit the winter resiliency website to find simple instructions. At 5 p.m. on Sunday\, Dec. 20\, step outside with others in your household and light a candle or turn on lights\, flashlights\, headlamps or a lantern. Choose a place where you can be safe and comfortable. Together\, but safely apart\, let's bring back the light! Take time to reflect and feel gratitude. Celebrate the returning light and pending arrival of COVID-19 vaccines. Express your gratitude for our frontline workers\, family\, friends\, teachers\, local business owners\, community\, neighbors\, faith and the beauty of Alaska. Remember those who have lost their lives\, their families and loved ones\, and everyone who has suffered losses due to the pandemic.\n\n\n\nPLEASE JOIN US:\n\nThe Alaska Department of Health and Social Services (DHSS) invites partner organizations and Alaskans statewide to join this event and make it your own. You can be quiet and thoughtful\, or laugh\, talk\, sing or dance. Communities may choose to light candles for those who have lost their lives to COVID-19 or for those who have suffered other losses. There's no one way to join the event. Just step outside and shine a light at 5 p.m. Dec. 20.\n\n\n\nPLEASE SHARE: \n\nPrior to the event\, feel free to share photos or videos of your lanterns\, ice candles or lights. During the event\, please take photos or videos and share them on social media. Use the hashtag #WithYouAlaska.\n\n\n\nYou can learn more at the Facebook event or the Bring Back the Light website.
X-ALT-DESC;FMTTYPE=text/html:<h5>A moment of celebration\, solidarity and reflection</h5>\n\n<h6>Join fellow Alaskans by shining a light at 5 p.m. on Sunday\, Dec. 20\, 2020</h6>\nAs we approach the shortest day of 2020\, we encourage Alaskans to pause and celebrate the return of the light. This has been a difficult year for everyone in different ways\, but Alaskans have shown considerable strength to adapt and take care of themselves and each other. During Bring Back the Light\, Alaskans will come together to support one another and our communities\, take pride in our resiliency and look forward to brighter days ahead.<br />\n<br />\n<strong>How to PARTICIPATE:</strong><br />\nIn advance of the event\, create lights or lanterns in your homes and neighborhoods. Visit the <a href="http://dhss.alaska.gov/dph/Epi/id/Pages/COVID-19/general.aspx" target="_blank">winter resiliency website</a> to find simple instructions. At 5 p.m. on Sunday\, Dec. 20\, step outside with others in your household and light a candle or turn on lights\, flashlights\, headlamps or a lantern. Choose a place where you can be safe and comfortable. Together\, but safely apart\, let&rsquo\;s bring back the light! Take time to reflect and feel gratitude. Celebrate the returning light and pending arrival of COVID-19 vaccines. Express your gratitude for our frontline workers\, family\, friends\, teachers\, local business owners\, community\, neighbors\, faith and the beauty of Alaska. Remember those who have lost their lives\, their families and loved ones\, and everyone who has suffered losses due to the pandemic.<br />\n<br />\n<strong>PLEASE JOIN US:</strong><br />\nThe Alaska Department of Health and Social Services (DHSS) invites partner organizations and Alaskans statewide to join this event and make it your own. You can be quiet and thoughtful\, or laugh\, talk\, sing or dance. Communities may choose to light candles for those who have lost their lives to COVID-19 or for those who have suffered other losses. There&rsquo\;s no one way to join the event. Just step outside and shine a light at 5 p.m. Dec. 20.<br />\n<br />\n<strong>PLEASE SHARE: </strong><br />\nPrior to the event\, feel free to share photos or videos of your lanterns\, ice candles or lights. During the event\, please take photos or videos and share them on social media. Use the hashtag #WithYouAlaska.<br />\n<br />\nYou can learn more at the <a href="https://www.facebook.com/events/374300443856257?acontext=%7B%22action_history%22%3A%5b%7B%22surface%22%3A%22page%22%2C%22mechanism%22%3A%22page_admin_bar%22%2C%22extra_data%22%3A%22%7B%5C%22page_id%5C%22%3A99962144928%7D%22%7D%2C%7B%22surface%22%3A%22events_admin_tool%22%2C%22mechanism%22%3A%22events_admin_tool%22%2C%22extra_data%22%3A%22%5b%5d%22%7D%5d%2C%22has_source%22%3Atrue%7D" target="_blank">Facebook event</a> or the <a href="http://dhss.alaska.gov/dph/Epi/id/Pages/COVID-19/general.aspx#light" target="_blank">Bring Back the Light website</a>.
LOCATION:
UID:e.1417.8919
SEQUENCE:3
DTSTAMP:20260423T214226Z
URL:https://business.anchoragechamber.org/events/details/bring-back-the-light-12-20-2020-8919
END:VEVENT

END:VCALENDAR
