BEGIN:VCALENDAR
VERSION:2.0
PRODID:-//ChamberMaster//Event Calendar 2.0//EN
METHOD:PUBLISH
X-PUBLISHED-TTL:P3D
REFRESH-INTERVAL:P3D
CALSCALE:GREGORIAN
BEGIN:VEVENT
DTSTART:20260501T013000Z
DTEND:20260501T033000Z
X-MICROSOFT-CDO-ALLDAYEVENT:FALSE
SUMMARY:Big Brothers Big Sisters of Alaska Presents THE BIG BASH
DESCRIPTION:Be part of something BIG this April.\n\nPurchase raffle tickets at the event for your chance to win BIG! Apps & taps provided (plus great non-alcohol options!) Every dollar helps start and sustain a life-changing relationship. Help us reach our goal of $75\,000 and support youth!
X-ALT-DESC;FMTTYPE=text/html:Be part of something BIG this April.<br />\nPurchase raffle tickets at the event for your chance to win BIG! Apps &amp\; taps provided (plus great non-alcohol options!) Every dollar helps start and sustain a life-changing relationship. Help us reach our goal of $75\,000 and support youth!
LOCATION:Double Shovel Cider Co.
UID:e.1417.14915
SEQUENCE:3
DTSTAMP:20260422T133945Z
URL:https://business.anchoragechamber.org/events/details/big-brothers-big-sisters-of-alaska-presents-the-big-bash-14915
END:VEVENT

END:VCALENDAR
