BEGIN:VCALENDAR
VERSION:2.0
PRODID:-//ChamberMaster//Event Calendar 2.0//EN
METHOD:PUBLISH
X-PUBLISHED-TTL:P3D
REFRESH-INTERVAL:P3D
CALSCALE:GREGORIAN
BEGIN:VEVENT
DTSTART:20220113T190000Z
DTEND:20220113T200000Z
X-MICROSOFT-CDO-ALLDAYEVENT:FALSE
SUMMARY:Assessing the Financial Health of Your Organization
DESCRIPTION:When you come to this session you will take an important step to assure the financial health of your organization. As a nonprofit leader\, you are juggling many issues and concerns. We all know that a stressed organization operating with the best of intentions can still make ill-advised decisions   especially in the financial arena   and the results can be damaging. Foraker has developed a tool to help you spot if you are in crisis or coming close to one. Chellie will walk you through the tool and answer any questions you may have about protecting your financial health and resiliency.
X-ALT-DESC;FMTTYPE=text/html:<p>&nbsp\;When you come to this session you will take an important step to assure the financial health of your organization. As a nonprofit leader\, you are juggling many issues and concerns. We all know that a stressed organization operating with the best of intentions can still make ill-advised decisions &ndash\; especially in the financial arena &ndash\; and the results can be damaging. Foraker has developed a&nbsp\;tool to help you spot if you are in crisis or coming close to one. Chellie will walk you through the tool and answer any questions you may have about protecting your financial health and resiliency.&nbsp\;</p>\n
LOCATION:The Foraker Group Webinar
UID:e.1417.10938
SEQUENCE:3
DTSTAMP:20260424T043821Z
URL:https://business.anchoragechamber.org/events/details/assessing-the-financial-health-of-your-organization-10938
END:VEVENT

END:VCALENDAR
