BEGIN:VCALENDAR
VERSION:2.0
PRODID:-//ChamberMaster//Event Calendar 2.0//EN
METHOD:PUBLISH
X-PUBLISHED-TTL:P3D
REFRESH-INTERVAL:P3D
CALSCALE:GREGORIAN
BEGIN:VEVENT
DTSTART:20250917T190000Z
DTEND:20250917T210000Z
X-MICROSOFT-CDO-ALLDAYEVENT:FALSE
SUMMARY:ASD Legislative Lunch & Learn
DESCRIPTION:Be the first to hear the Anchorage School District's bold new plan to restore stability for students and teachers after a summer of funding uncertainty. The event will recognize our legislative and congressional partners\, who how ASD is keeping resources in the classroom\, and unveil new legislative priorities.\n\n\n\nLunch will be prepared and served by students from King Tech High School's ProStart Program.
X-ALT-DESC;FMTTYPE=text/html:<br />\nBe the first to hear the Anchorage School District&#39\;s bold new plan to restore stability for students and teachers after a summer of funding uncertainty. The event will recognize our legislative and congressional partners\, who how ASD is keeping resources in the classroom\, and unveil new legislative priorities.<br />\n<br />\nLunch will be prepared and served by students from King Tech High School&#39\;s ProStart Program.
LOCATION:King Tech High School 2650 E Northern Lights Blvd.
UID:e.1417.14642
SEQUENCE:3
DTSTAMP:20260421T050348Z
URL:https://business.anchoragechamber.org/events/details/asd-legislative-lunch-learn-14642
END:VEVENT

END:VCALENDAR
