BEGIN:VCALENDAR
VERSION:2.0
PRODID:-//ChamberMaster//Event Calendar 2.0//EN
METHOD:PUBLISH
X-PUBLISHED-TTL:P3D
REFRESH-INTERVAL:P3D
CALSCALE:GREGORIAN
BEGIN:VEVENT
DTSTART:20210623T013000Z
DTEND:20210623T033000Z
X-MICROSOFT-CDO-ALLDAYEVENT:FALSE
SUMMARY:ASD Job Fair
DESCRIPTION:The Anchorage School District is hiring! The ASD Job Fair takes place Tuesday\, June 22 from 5:30 to 7:30 p.m. at Begich Middle School\, located at 7440 Creekside Center Dr.\, Anchorage\, AK 99504 Some positions may be eligible for a $500 hiring bonus. Hiring managers will be on hand to conduct interviews at the ASD job fair for the following positions:   Cafeteria Manager (multiple locations)   Mobile Cafeteria Manager   Student Cafe Assistant (multiple locations)   Central Kitchen Assistant   School Nurses   Bus Drivers   Bus Attendants   Custodians (full & part-time)   Trade Workers (maintenance) Qualified applicants with a completed application will have an opportunity to interview on the spot with a hiring manager. Potential candidates may complete an application during the job fair or beforehand at www.asdk12.org/workforasd. Successful candidates may receive a job offer onsite. All job offers are subject to a background check\, fingerprinting\, and other department specific testing requirements.
X-ALT-DESC;FMTTYPE=text/html:The Anchorage School District is hiring! The ASD Job Fair takes place Tuesday\, June 22 from 5:30 to 7:30 p.m. at Begich Middle School\, located at 7440 Creekside Center Dr.\, Anchorage\, AK 99504 Some positions may be eligible for a $500 hiring bonus. Hiring managers will be on hand to conduct interviews at the ASD job fair for the following positions: &bull\; Cafeteria Manager (multiple locations) &bull\; Mobile Cafeteria Manager &bull\; Student Cafe Assistant (multiple locations) &bull\; Central Kitchen Assistant &bull\; School Nurses &bull\; Bus Drivers &bull\; Bus Attendants &bull\; Custodians (full &amp\; part-time) &bull\; Trade Workers (maintenance) Qualified applicants with a completed application will have an opportunity to interview on the spot with a hiring manager. Potential candidates may complete an application during the job fair or beforehand at www.asdk12.org/workforasd. Successful candidates may receive a job offer onsite. All job offers are subject to a background check\, fingerprinting\, and other department specific testing requirements.
LOCATION:Begich Middle School
UID:e.1417.9720
SEQUENCE:3
DTSTAMP:20260423T090650Z
URL:https://business.anchoragechamber.org/events/details/asd-job-fair-9720
END:VEVENT

END:VCALENDAR
