BEGIN:VCALENDAR
VERSION:2.0
PRODID:-//ChamberMaster//Event Calendar 2.0//EN
METHOD:PUBLISH
X-PUBLISHED-TTL:P3D
REFRESH-INTERVAL:P3D
CALSCALE:GREGORIAN
BEGIN:VEVENT
DTSTART:20260814T020000Z
DTEND:20260814T040000Z
X-MICROSOFT-CDO-ALLDAYEVENT:FALSE
SUMMARY:Annual YPG Picnic
DESCRIPTION:Join us for the annual Young Professionals Group picnic! Let us say thank you for being a member with a BBQ\, yard games\, door prizes\, and cash bar.\n\n\n\nSPONSOR THE PICNIC!
X-ALT-DESC;FMTTYPE=text/html:<p><br />\n<span class="fsl">Join us for the annual Young Professionals Group&nbsp\;picnic!&nbsp\;Let us say thank you for being a member with a BBQ\, yard games\, door prizes\, and cash bar.<br />\n<br />\n<strong><a href="https://drive.google.com/file/d/1sLrb_TFuOI81YbVmo-xgw0Dj38c3yapZ/view?usp=drive_link" target="_blank">SPONSOR THE PICNIC!</a></strong></span><br />\n&nbsp\;</p>\n
LOCATION:TBD
UID:e.1417.14920
SEQUENCE:3
DTSTAMP:20260423T031846Z
URL:https://business.anchoragechamber.org/events/details/annual-ypg-picnic-14920
END:VEVENT

END:VCALENDAR
