BEGIN:VCALENDAR
VERSION:2.0
PRODID:-//ChamberMaster//Event Calendar 2.0//EN
METHOD:PUBLISH
X-PUBLISHED-TTL:P3D
REFRESH-INTERVAL:P3D
CALSCALE:GREGORIAN
BEGIN:VEVENT
DTSTART:20250507T190000Z
DTEND:20250508T030000Z
X-MICROSOFT-CDO-ALLDAYEVENT:FALSE
SUMMARY:Anchorage Travel Expo
DESCRIPTION:The Frontline Trade Show is now Anchorage Travel Expo\n		\n	\n\n\n\n	\n		\n			\n			There are more reasons to celebrate the coming summer. Visit Anchorage's Frontline Trade Show is now the Anchorage Travel Expo!\n\n			Join us at the Dena'ina Center on May 7\, 2025 for a full day of the newly expanded Anchorage Travel Expo. \n\n			Are your coworkers and frontline staff ready? Join Visit Anchorage for a fun firsthand look at everything that makes Anchorage (and beyond) awesome. See what's new for 2025\, and learn all about the latest and greatest activities\, attractions\, visitor amenities\, and more. Come learn how you can Stay and Play with all there is to do. Allow time to stop by to more than 65 booths. \n			\n		\n	\n\nSchedule of Events\n\n\n	11:00 a.m. - 3:00 p.m. Trade Show Session 1\n	5:00 - 7:00 p.m. Trade Show Session 2\n\nFood Provided\n\n\n	Light lunch will be provided from 11 a.m.   3 p.m. in the trade show.\n	The Pizza Box food truck will be outside the Dena'ina Center from 3:30 p.m.   7 p.m. where you can purchase artisan pizza\, gourmet salads\, and sweet treats.\n\nDoor Prizes\n\n\n	Each booth will be giving away a door prize that you can enter to win.\n\nTraining Seminars\n\n\n	11:00 a.m.   11:30 a.m.      Cross-Culture Communication training with Christopher Delgado\n	\n		Christopher Delgado is the Manager of Indigenous Training and Outreach at the Alaska Native Heritage Center.\n	\n	\n	12:00 p.m. - 12:45 p.m.        Safety training for frontline staff\n	1:00 p.m.   2:15 p.m.          Crime\, safety and security situations and concerns for business   owners and upper management\n	\n		Lieutenant Fuchs of the Anchorage Police Department heads the HOPE Team (Homeless Outreach Prevention and Engagement).\n	\n	\n	1:00 p.m.   1:30 p.m.         Anchorage Destination Marketing 101\n	\n		Tia Froehle who is the Director\, Tourism Sales at Visit Anchorage\, will discuss your role as part of the visitor experience.
X-ALT-DESC;FMTTYPE=text/html:<table border="0" style="border-collapse: collapse\; border-spacing: 0px\; background-image: initial\; background-position: initial\; background-size: initial\; background-repeat: initial\; background-attachment: initial\; background-origin: initial\; background-clip: initial\; margin-bottom: 1.25rem\; border: none\; table-layout: auto\; color: rgb(34\, 34\, 34)\; font-family: Merriweather\, serif\; font-size: 16px\; width: 700px\;">\n	<tbody style="box-sizing: border-box\;">\n		<tr style="box-sizing: border-box\;">\n			<td style="box-sizing: border-box\; padding: 0.5625rem 0.625rem\; margin: 0px\; font-size: 0.875rem\; line-height: 1.125rem\;"><span style="box-sizing: border-box\; font-size: 12pt\; font-family: arial\, helvetica\, sans-serif\;"><span style="box-sizing: border-box\; color: rgb(22\, 145\, 121)\;"><strong style="box-sizing: border-box\; font-weight: bold\; line-height: inherit\; margin: 10px 0px 0px\; display: inline-block\;">The Frontline Trade Show is now Anchorage Travel Expo</strong></span></span></td>\n		</tr>\n	</tbody>\n</table>\n\n<table border="0" style="border-collapse: collapse\; border-spacing: 0px\; background-image: initial\; background-position: initial\; background-size: initial\; background-repeat: initial\; background-attachment: initial\; background-origin: initial\; background-clip: initial\; margin-bottom: 1.25rem\; border: none\; table-layout: auto\; color: rgb(34\, 34\, 34)\; font-family: Merriweather\, serif\; font-size: 16px\; width: 700px\;">\n	<tbody style="box-sizing: border-box\;">\n		<tr style="box-sizing: border-box\;">\n			<td style="box-sizing: border-box\; padding: 0.5625rem 0.625rem\; margin: 0px\; font-size: 0.875rem\; line-height: 1.125rem\;">\n			<p style="box-sizing: border-box\; margin: 0px 0px 5px\; padding: 0px\; font-family: Verdana\, Arial\, Helvetica\; font-size: 11px\; line-height: 1.5\; text-rendering: optimizelegibility\; color: rgb(0\, 0\, 0)\;"><span style="box-sizing: border-box\; font-size: 12pt\; font-family: arial\, helvetica\, sans-serif\;">There are more reasons to celebrate the coming summer. Visit Anchorage&#39\;s Frontline Trade Show is now the&nbsp\;<strong style="box-sizing: border-box\; font-weight: bold\; line-height: inherit\; margin: 10px 0px 0px\; display: inline-block\;">Anchorage Travel Expo</strong>!</span></p>\n\n			<p style="box-sizing: border-box\; margin: 0px 0px 5px\; padding: 0px\; font-family: Verdana\, Arial\, Helvetica\; font-size: 11px\; line-height: 1.5\; text-rendering: optimizelegibility\; color: rgb(0\, 0\, 0)\;"><span style="box-sizing: border-box\; font-size: 12pt\; font-family: arial\, helvetica\, sans-serif\;">Join us at the Dena&#39\;ina Center on May 7\, 2025 for a full day of the newly expanded Anchorage Travel Expo.&nbsp\;</span></p>\n\n			<p style="box-sizing: border-box\; margin: 0px 0px 5px\; padding: 0px\; font-family: Verdana\, Arial\, Helvetica\; font-size: 11px\; line-height: 1.5\; text-rendering: optimizelegibility\; color: rgb(0\, 0\, 0)\;"><span style="box-sizing: border-box\; font-size: 12pt\; font-family: arial\, helvetica\, sans-serif\;">Are your coworkers and frontline staff ready? Join Visit Anchorage for a fun firsthand look at everything that makes Anchorage (and beyond) awesome. See what&#39\;s new for 2025\, and learn all about the latest and greatest activities\, attractions\, visitor amenities\, and more. Come learn how you can Stay and Play with all there is to do. Allow time to stop by to more than 65 booths.&nbsp\;</span></p>\n			</td>\n		</tr>\n	</tbody>\n</table>\n<strong>Schedule of Events</strong>\n\n<ul>\n	<li>11:00 a.m. - 3:00 p.m. Trade Show Session 1</li>\n	<li>5:00 - 7:00 p.m. Trade Show Session 2</li>\n</ul>\n<strong>Food Provided</strong>\n\n<ul>\n	<li>Light lunch will be provided from 11 a.m. &ndash\; 3 p.m. in the trade show.</li>\n	<li>The Pizza Box food truck will be outside the Dena&rsquo\;ina Center from 3:30 p.m. &ndash\; 7 p.m. where you can purchase artisan pizza\, gourmet salads\, and sweet treats.</li>\n</ul>\n<strong>Door Prizes</strong>\n\n<ul>\n	<li>Each booth will be giving away a door prize that you can enter to win.</li>\n</ul>\n<strong>Training Seminars</strong>\n\n<ul>\n	<li>11:00 a.m. &ndash\; 11:30 a.m.&nbsp\; &nbsp\; &nbsp\; Cross-Culture Communication training with Christopher Delgado\n	<ul>\n		<li>Christopher Delgado is the Manager of Indigenous Training and Outreach at the Alaska Native Heritage Center.</li>\n	</ul>\n	</li>\n	<li>12:00 p.m. - 12:45 p.m.&nbsp\; &nbsp\; &nbsp\; &nbsp\; Safety training for frontline staff</li>\n	<li>1:00 p.m. &ndash\; 2:15 p.m.&nbsp\; &nbsp\; &nbsp\; &nbsp\; &nbsp\; Crime\, safety and security situations and concerns for business&nbsp\; &nbsp\;owners and upper management\n	<ul>\n		<li>Lieutenant Fuchs of the Anchorage Police Department heads the HOPE Team (Homeless Outreach Prevention and Engagement).</li>\n	</ul>\n	</li>\n	<li>1:00 p.m. &ndash\; 1:30 p.m.&nbsp\; &nbsp\; &nbsp\; &nbsp\; &nbsp\;Anchorage Destination Marketing 101\n	<ul>\n		<li>Tia Froehle who is the Director\, Tourism Sales at Visit Anchorage\, will discuss your role as part of the visitor experience.</li>\n	</ul>\n	</li>\n</ul>\n
LOCATION:Dena'ina Civic and Convention Center 600 W Seventh Ave Anchorage\, AK 99501-3433
UID:e.1417.14321
SEQUENCE:3
DTSTAMP:20260423T075419Z
URL:https://business.anchoragechamber.org/events/details/anchorage-travel-expo-14321
END:VEVENT

END:VCALENDAR
