BEGIN:VCALENDAR
VERSION:2.0
PRODID:-//ChamberMaster//Event Calendar 2.0//EN
METHOD:PUBLISH
X-PUBLISHED-TTL:P3D
REFRESH-INTERVAL:P3D
CALSCALE:GREGORIAN
BEGIN:VEVENT
DTSTART;VALUE=DATE:20250219
DTEND;VALUE=DATE:20250224
TRANSP:TRANSPARENT
X-MICROSOFT-CDO-ALLDAYEVENT:TRUE
SUMMARY:Anchorage Design Week 2025
DESCRIPTION:Anchorage Design Week is an annual gathering of creative minds to promote and inspire place-based design and imagine the future of our city and the lifeways of Northern regions.\n\n\n\n2025 PROGRAMS & EVENTS
X-ALT-DESC;FMTTYPE=text/html:<div background-color:="" color:="" font-feature-settings:="" font-kerning:="" font-optical-sizing:="" font-variation-settings:="" gotham="" position:="" vertical-align:="">\n<div>\n<div>\n<div>\n<div>\n<p>Anchorage Design Week is an annual gathering of creative minds to promote and inspire place-based design and imagine the future of our city and the lifeways of Northern regions.<br />\n<br />\n<a href="https://www.eventbrite.com/cc/anchorage-design-week-2025-3912913" target="_blank">2025 PROGRAMS &amp\; EVENTS</a></p>\n</div>\n</div>\n</div>\n</div>\n</div>\n
LOCATION:Anchorage Museum and sites around Anchorage
UID:e.1417.14100
SEQUENCE:3
DTSTAMP:20260424T221929Z
URL:https://business.anchoragechamber.org/events/details/anchorage-design-week-2025-14100
END:VEVENT

END:VCALENDAR
