BEGIN:VCALENDAR
VERSION:2.0
PRODID:-//ChamberMaster//Event Calendar 2.0//EN
METHOD:PUBLISH
X-PUBLISHED-TTL:P3D
REFRESH-INTERVAL:P3D
CALSCALE:GREGORIAN
BEGIN:VEVENT
DTSTART:20260325T190000Z
DTEND:20260325T230000Z
X-MICROSOFT-CDO-ALLDAYEVENT:FALSE
SUMMARY:ANC 2026 Job Fair
DESCRIPTION:ANC will be holding its 2026 ANC Job Fair on Wednesday\, March 25\, from 11:00 a.m. to 3:00 p.m. in the North Terminal. Join us to learn about careers at the airport\, network\, and share experiences. Meet employers and apply for exciting job opportunities. Kiosks will be available at the job fair so you can apply on-site. Representatives from major airport departments\, as well as key tenants hiring ahead of the summer season\, will be in attendance.\n\n\n\nParking will be free in the North Terminal. Employer booths are open to airport tenants\, concessions\, support services\, and more.\n\n\n\nPlease mark your calendar and bring your resume!
X-ALT-DESC;FMTTYPE=text/html:ANC will be holding its 2026 ANC Job Fair on Wednesday\, March 25\, from 11:00 a.m. to 3:00 p.m. in the North Terminal. Join us to learn about careers at the airport\, network\, and share experiences. Meet employers and apply for exciting job opportunities. Kiosks will be available at the job fair so you can apply on-site. Representatives from major airport departments\, as well as key tenants hiring ahead of the summer season\, will be in attendance.<br />\n<br />\nParking will be free in the North Terminal. Employer booths are open to airport tenants\, concessions\, support services\, and more.<br />\n<br />\nPlease mark your calendar and bring your resume!
LOCATION:North Terminal 4600 Postmark Dr\, Anchorage\, AK Anchorage\, AK 99502
UID:e.1417.14857
SEQUENCE:3
DTSTAMP:20260422T172858Z
URL:https://business.anchoragechamber.org/events/details/anc-2026-job-fair-14857
END:VEVENT

END:VCALENDAR
