BEGIN:VCALENDAR
VERSION:2.0
PRODID:-//ChamberMaster//Event Calendar 2.0//EN
METHOD:PUBLISH
X-PUBLISHED-TTL:P3D
REFRESH-INTERVAL:P3D
CALSCALE:GREGORIAN
BEGIN:VEVENT
DTSTART:20250612T180000Z
DTEND:20250612T193000Z
X-MICROSOFT-CDO-ALLDAYEVENT:FALSE
SUMMARY:AMYA Graduation
DESCRIPTION:Graduation Ceremony for the Alaska Military Youth Academy Class 2025-1. Come celebrate with the staff and families of the cadets!
X-ALT-DESC;FMTTYPE=text/html:Graduation Ceremony for the Alaska Military Youth Academy Class 2025-1. Come celebrate with the staff and families of the cadets!
LOCATION:Alaska Airlines Center\, UAA
UID:e.1417.14315
SEQUENCE:3
DTSTAMP:20260421T233140Z
URL:https://business.anchoragechamber.org/events/details/amya-graduation-14315
END:VEVENT

END:VCALENDAR
