BEGIN:VCALENDAR
VERSION:2.0
PRODID:-//ChamberMaster//Event Calendar 2.0//EN
METHOD:PUBLISH
X-PUBLISHED-TTL:P3D
REFRESH-INTERVAL:P3D
CALSCALE:GREGORIAN
BEGIN:VEVENT
DTSTART:20260424T000000Z
DTEND:20260424T020000Z
X-MICROSOFT-CDO-ALLDAYEVENT:FALSE
SUMMARY:Alaska Women’s Business Center Spring Mixer
DESCRIPTION:Join us as we celebrate 3.5 years of supporting Alaska entrepreneurs at the Alaska Women's Business Center (AWBC)\, operated by Business Impact NW.\n\n\n\nOur annual spring mixer is a welcoming space for connection\, celebration\, and opportunity. Whether you're a business owner\, aspiring entrepreneur\, or community supporter\, this event is designed to help you build relationships and discover new possibilities.\n\n\n\nWhat to expect:\n\n	Networking with regional women entrepreneurs and community leaders\n	Discovering unique Alaska products and services\n	Learning about free and low-cost business resources\n	Interactive experiences and meaningful conversations\n	Opportunities to connect with people who want to support your business\n\nThis event is open to all and is a great opportunity to meet new people\, expand your network\, and experience the supportive AWBC community. Come celebrate with us and be part of a growing community of Alaska entrepreneurs.\n\n\n\nRefreshments provided by fantastic AWBC client businesses.\n\n\n\nClick here to RSVP. Please RSVP by Monday\, April 20th\, 2026\n\n\n\nIf you have any questions\, please reach out to us at awbc@businessimpactnw.org.
X-ALT-DESC;FMTTYPE=text/html:<strong>Join us as we celebrate 3.5 years of supporting Alaska entrepreneurs at the Alaska Women&rsquo\;s Business Center (AWBC)\, operated by Business Impact NW.</strong><br />\n<br />\nOur annual spring mixer is a welcoming space for connection\, celebration\, and opportunity. Whether you&rsquo\;re a business owner\, aspiring entrepreneur\, or community supporter\, this event is designed to help you build relationships and discover new possibilities.<br />\n<br />\nWhat to expect:\n<ul>\n	<li>Networking with regional women entrepreneurs and community leaders</li>\n	<li>Discovering unique Alaska products and services</li>\n	<li>Learning about free and low-cost business resources</li>\n	<li>Interactive experiences and meaningful conversations</li>\n	<li>Opportunities to connect with people who want to support your business</li>\n</ul>\nThis event is open to all and is a great opportunity to meet new people\, expand your network\, and experience the supportive AWBC community.&nbsp\;Come celebrate with us and be part of a growing community of Alaska entrepreneurs.<br />\n<br />\nRefreshments provided by fantastic AWBC client businesses.<br />\n<br />\n<a href="https://businessimpactnw.org/event/alaska-womens-business-center-3rd-birthday-business-mixer/">Click here to RSVP.</a> Please RSVP by Monday\, April 20th\, 2026<br />\n<br />\nIf you have any questions\, please reach out to us at awbc@businessimpactnw.org.
LOCATION:Location: CoWork by RSD\, 911 W 8th Ave\, 3rd floor\, Anchorage\, AK 99501
UID:e.1417.14913
SEQUENCE:3
DTSTAMP:20260420T030516Z
URL:https://business.anchoragechamber.org/events/details/alaska-women-s-business-center-spring-mixer-14913
END:VEVENT

END:VCALENDAR
