BEGIN:VCALENDAR
VERSION:2.0
PRODID:-//ChamberMaster//Event Calendar 2.0//EN
METHOD:PUBLISH
X-PUBLISHED-TTL:P3D
REFRESH-INTERVAL:P3D
CALSCALE:GREGORIAN
BEGIN:VEVENT
DTSTART:20250809T013000Z
DTEND:20250809T040000Z
X-MICROSOFT-CDO-ALLDAYEVENT:FALSE
SUMMARY:Alaska Seeds of Change Birthday Bash
DESCRIPTION:Get ready for an unforgettable evening packed with fun and community spirit! Here's a sneak peek at what's in store: ?? Community Trivia Night: Put your knowledge to the test and compete for glory! ??? Dinner and Dessert: Indulge in delicious eats and sweet treats. Stay tuned for more details as we finalize our plans. Keep checking in for updates\, and get ready to celebrate with us in style!
X-ALT-DESC;FMTTYPE=text/html:Get ready for an unforgettable evening packed with fun and community spirit! Here&#39\;s a sneak peek at what&#39\;s in store: ?? Community Trivia Night: Put your knowledge to the test and compete for glory! ??? Dinner and Dessert: Indulge in delicious eats and sweet treats. Stay tuned for more details as we finalize our plans. Keep checking in for updates\, and get ready to celebrate with us in style!
LOCATION:704 W 26th Avenue
UID:e.1417.14558
SEQUENCE:3
DTSTAMP:20260423T032516Z
URL:https://business.anchoragechamber.org/events/details/alaska-seeds-of-change-birthday-bash-14558
END:VEVENT

END:VCALENDAR
