BEGIN:VCALENDAR
VERSION:2.0
PRODID:-//ChamberMaster//Event Calendar 2.0//EN
METHOD:PUBLISH
X-PUBLISHED-TTL:P3D
REFRESH-INTERVAL:P3D
CALSCALE:GREGORIAN
BEGIN:VEVENT
DTSTART:20200827T233000Z
DTEND:20200828T003000Z
X-MICROSOFT-CDO-ALLDAYEVENT:FALSE
SUMMARY:Alaska Fraud Watchdog group with Michelle Tabler
DESCRIPTION:Join the AARP Alaska Fraud Watchdog team for their first monthly meeting hosted by Michelle Tabler to learn about the scams in Alaska and across the nation. Each month\, this group will listen to a podcast from AARP's The Perfect Scam and then meet to discuss that topic and other scams currently happening in Alaska. The topic for August will be Imposter Scams.
X-ALT-DESC;FMTTYPE=text/html:Join the AARP Alaska Fraud Watchdog team for their first monthly meeting hosted by Michelle Tabler to learn about the scams in Alaska and across the nation. Each month\, this group will listen to a podcast from AARP&rsquo\;s The Perfect Scam and then meet to discuss that topic and other scams currently happening in Alaska. The topic for August will be Imposter Scams.
LOCATION:Register here: https://aarp.cvent.com/AUGFW2020
UID:e.1417.7914
SEQUENCE:3
DTSTAMP:20260424T154208Z
URL:https://business.anchoragechamber.org/events/details/alaska-fraud-watchdog-group-with-michelle-tabler-08-27-2020-7914
END:VEVENT

END:VCALENDAR
