BEGIN:VCALENDAR
VERSION:2.0
PRODID:-//ChamberMaster//Event Calendar 2.0//EN
METHOD:PUBLISH
X-PUBLISHED-TTL:P3D
REFRESH-INTERVAL:P3D
CALSCALE:GREGORIAN
BEGIN:VEVENT
DTSTART:20260627T180000Z
DTEND:20260628T000000Z
X-MICROSOFT-CDO-ALLDAYEVENT:FALSE
SUMMARY:Alaska Aviation Museum's Fly By Festival 2026
DESCRIPTION:The Alaska Aviation Museum's Fly By Festival is a community-focused aviation event centered around low-level flybys over Lake Hood. The event brings together pilots\, families\, and local organizations for a day that mixes aviation with hands-on activities and relaxed outdoor fun. In addition to the flybys\, there will be live music throughout the day\, a selection of local food trucks\, and a beer garden for adults. Family-friendly activities include face painting\, an indoor "airport" play area for kids\, rocket launching\, and a variety of STEM activities designed to get younger attendees engaged with aviation and science. The festival is designed to be accessible and informal whether you're there for the planes\, the activities\, or just to spend time outside\, it's an easygoing way to experience Anchorage's aviation culture up close.
X-ALT-DESC;FMTTYPE=text/html:The Alaska Aviation Museum&#39\;s Fly By Festival is a community-focused aviation event centered around low-level flybys over Lake Hood. The event brings together pilots\, families\, and local organizations for a day that mixes aviation with hands-on activities and relaxed outdoor fun. In addition to the flybys\, there will be live music throughout the day\, a selection of local food trucks\, and a beer garden for adults. Family-friendly activities include face painting\, an indoor &ldquo\;airport&rdquo\; play area for kids\, rocket launching\, and a variety of STEM activities designed to get younger attendees engaged with aviation and science. The festival is designed to be accessible and informal&mdash\;whether you&rsquo\;re there for the planes\, the activities\, or just to spend time outside\, it&rsquo\;s an easygoing way to experience Anchorage&rsquo\;s aviation culture up close.
LOCATION:4721 Aircraft Drive Anchorage\, AK 99502
UID:e.1417.14911
SEQUENCE:3
DTSTAMP:20260422T172356Z
URL:https://business.anchoragechamber.org/events/details/alaska-aviation-museum-s-fly-by-festival-2026-14911
END:VEVENT

END:VCALENDAR
