BEGIN:VCALENDAR
VERSION:2.0
PRODID:-//ChamberMaster//Event Calendar 2.0//EN
METHOD:PUBLISH
X-PUBLISHED-TTL:P3D
REFRESH-INTERVAL:P3D
CALSCALE:GREGORIAN
BEGIN:VEVENT
DTSTART:20240714T180000Z
DTEND:20240715T000000Z
X-MICROSOFT-CDO-ALLDAYEVENT:FALSE
SUMMARY:Alaska Aviation Museum's Fly By Festival 2024
DESCRIPTION:Come out for this community event and enjoy the Fly By Festival on the busiest seaplane base in the WORLD!\n\n\n\nEnjoy beer\, wine\, food trucks\, and family activities!\n\n\n\nFood truck lineup: Bruceskis\, Garcia's Cantina\, The Hungry Deckhand\, and J's BBQ Joint
X-ALT-DESC;FMTTYPE=text/html:<br />\nCome out for this community event and enjoy the Fly By Festival on the busiest seaplane base in the WORLD!<br />\n<br />\nEnjoy beer\, wine\, food trucks\, and family activities!<br />\n<br />\nFood truck lineup: Bruceskis\, Garcia&#39\;s Cantina\, The Hungry Deckhand\, and J&#39\;s BBQ Joint<br />\n<br />\n&nbsp\;
LOCATION:Alaska Aviation Museum 4721 Aircraft Drive Anchorage AK 99502
UID:e.1417.13322
SEQUENCE:3
DTSTAMP:20260421T123244Z
URL:https://business.anchoragechamber.org/events/details/alaska-aviation-museum-s-fly-by-festival-2024-13322
END:VEVENT

END:VCALENDAR
