BEGIN:VCALENDAR
VERSION:2.0
PRODID:-//ChamberMaster//Event Calendar 2.0//EN
METHOD:PUBLISH
X-PUBLISHED-TTL:P3D
REFRESH-INTERVAL:P3D
CALSCALE:GREGORIAN
BEGIN:VEVENT
DTSTART:20210915T023000Z
DTEND:20210915T033000Z
X-MICROSOFT-CDO-ALLDAYEVENT:FALSE
SUMMARY:Age Smart-Let’s Talk
DESCRIPTION:Age Smart is pleased to welcome representatives from the AK Medicare Information Office to the September 14th Age Smart on the Medicare OEP (Open Enrollment Period) 2021 that will commence on October 15\, 2021 and run until December 7\, 2021.
X-ALT-DESC;FMTTYPE=text/html:Age Smart is pleased to welcome representatives from the AK Medicare Information Office to the September 14th Age Smart on the Medicare OEP (Open Enrollment Period) 2021 that will commence on October 15\, 2021 and run until December 7\, 2021.
LOCATION:Register: https://aarp.cvent.com/ASSEP142021
UID:e.1417.9745
SEQUENCE:3
DTSTAMP:20260423T092418Z
URL:https://business.anchoragechamber.org/events/details/age-smart-let-s-talk-09-14-2021-9745
END:VEVENT

END:VCALENDAR
