BEGIN:VCALENDAR
VERSION:2.0
PRODID:-//ChamberMaster//Event Calendar 2.0//EN
METHOD:PUBLISH
X-PUBLISHED-TTL:P3D
REFRESH-INTERVAL:P3D
CALSCALE:GREGORIAN
BEGIN:VEVENT
DTSTART:20251112T233000Z
DTEND:20251113T003000Z
X-MICROSOFT-CDO-ALLDAYEVENT:FALSE
SUMMARY:Advocacy Committee
DESCRIPTION:November's meeting will include two brief presentations:\n\n	Marge Stoneking\, AARP Alaska\n	Rep. Julie Coloumbe\n\n \n\n\n\nThe Advocacy Committee works to gather proposed legislation at the city\, state and federal levels that may impact businesses in Anchorage. It communicates directly with the Anchorage Chamber Board of Directors and members in an effort to develop advocacy actions that ensure a successful business climate. LEARN MORE
X-ALT-DESC;FMTTYPE=text/html:<br />\nNovember&#39\;s meeting will include two brief presentations:\n<ul>\n	<li>Marge Stoneking\, AARP Alaska</li>\n	<li>Rep. Julie Coloumbe</li>\n</ul>\n&nbsp\;\n\n<hr /><br />\nThe <strong>Advocacy Committee</strong> works to gather proposed legislation at the city\, state and federal levels that may impact businesses in Anchorage. It communicates directly with the Anchorage Chamber Board of Directors and members in an effort to develop advocacy actions that ensure a successful business climate. <a href="https://www.anchoragechamber.org/legislative-committee" target="_blank">LEARN MORE</a>
LOCATION:Anchorage Chamber Board Rm + Virtual Option via Zoom (RSVP for link)
UID:e.1417.14368
SEQUENCE:3
DTSTAMP:20260422T231635Z
URL:https://business.anchoragechamber.org/events/details/advocacy-committee-11-12-2025-14368
END:VEVENT

END:VCALENDAR
