BEGIN:VCALENDAR
VERSION:2.0
PRODID:-//ChamberMaster//Event Calendar 2.0//EN
METHOD:PUBLISH
X-PUBLISHED-TTL:P3D
REFRESH-INTERVAL:P3D
CALSCALE:GREGORIAN
BEGIN:VEVENT
DTSTART:20301009T223000Z
DTEND:20301009T233000Z
X-MICROSOFT-CDO-ALLDAYEVENT:FALSE
SUMMARY:Advocacy Committee
DESCRIPTION:The Advocacy Committee works to gather proposed legislation at the city\, state and federal levels that may impact businesses in Anchorage. It communicates directly with the Anchorage Chamber Board of Directors and members in an effort to develop advocacy actions that ensure a successful business climate. LEARN MORE
X-ALT-DESC;FMTTYPE=text/html:<br />\nThe <strong>Advocacy Committee</strong> works to gather proposed legislation at the city\, state and federal levels that may impact businesses in Anchorage. It communicates directly with the Anchorage Chamber Board of Directors and members in an effort to develop advocacy actions that ensure a successful business climate. <a href="https://www.anchoragechamber.org/legislative-committee" target="_blank">LEARN MORE</a>
LOCATION:Anchorage Chamber Board Rm + Virtual Option via Zoom (RSVP for link)
UID:e.1417.14427
SEQUENCE:3
DTSTAMP:20260422T052947Z
URL:https://business.anchoragechamber.org/events/details/advocacy-committee-10-09-2030-14427
END:VEVENT

END:VCALENDAR
