BEGIN:VCALENDAR
VERSION:2.0
PRODID:-//ChamberMaster//Event Calendar 2.0//EN
METHOD:PUBLISH
X-PUBLISHED-TTL:P3D
REFRESH-INTERVAL:P3D
CALSCALE:GREGORIAN
BEGIN:VEVENT
DTSTART:20230914T180000Z
DTEND:20230914T230000Z
X-MICROSOFT-CDO-ALLDAYEVENT:FALSE
SUMMARY:ADN Fall Career Fair
DESCRIPTION:EMPLOYER REGISTRATION IS NOW OPEN We are excited to bring you the 2023 ADN Fall Career Fair! Join us for our in person event at the Embassy Suites Hotel in midtown Anchorage on Thursday\, September 14. All employers must register for their booth to participate. https://www.adn.com/career-fair/
X-ALT-DESC;FMTTYPE=text/html:<br />\nEMPLOYER REGISTRATION IS NOW OPEN We are excited to bring you the 2023 ADN Fall Career Fair! Join us for our in person event at the Embassy Suites Hotel in midtown Anchorage on Thursday\, September 14. All employers must register for their booth to participate. <a href="https://www.adn.com/career-fair/" target="_blank">https://www.adn.com/career-fair/</a>
LOCATION:Embassy Suites by Hilton Anchorage
UID:e.1417.12623
SEQUENCE:3
DTSTAMP:20260420T084039Z
URL:https://business.anchoragechamber.org/events/details/adn-fall-career-fair-12623
END:VEVENT

END:VCALENDAR
