BEGIN:VCALENDAR
VERSION:2.0
PRODID:-//ChamberMaster//Event Calendar 2.0//EN
METHOD:PUBLISH
X-PUBLISHED-TTL:P3D
REFRESH-INTERVAL:P3D
CALSCALE:GREGORIAN
BEGIN:VEVENT
DTSTART:20210728T013000Z
DTEND:20210728T023000Z
X-MICROSOFT-CDO-ALLDAYEVENT:FALSE
SUMMARY:ACA Market Place Healthcare insurance updates
DESCRIPTION:The ACA (Affordable Care Act) Open Enrollment period for 2021 ends August 15\, 2021. If you need health insurance\, now is a good time to take another look at the ACA. Or\, are you interested in how to get health insurance before Medicare? Join us and get your questions answered\, and learn more about the latest information on this health insurance program.
X-ALT-DESC;FMTTYPE=text/html:The ACA (Affordable Care Act) Open Enrollment period for 2021 ends August 15\, 2021. If you need health insurance\, now is a good time to take another look at the ACA. Or\, are you interested in how to get health insurance before Medicare? Join us and get your questions answered\, and learn more about the latest information on this health insurance program.
LOCATION:Register: https://aarp.cvent.com/JUL272021
UID:e.1417.9739
SEQUENCE:3
DTSTAMP:20260422T203310Z
URL:https://business.anchoragechamber.org/events/details/aca-market-place-healthcare-insurance-updates-9739
END:VEVENT

END:VCALENDAR
