BEGIN:VCALENDAR
VERSION:2.0
PRODID:-//ChamberMaster//Event Calendar 2.0//EN
METHOD:PUBLISH
X-PUBLISHED-TTL:P3D
REFRESH-INTERVAL:P3D
CALSCALE:GREGORIAN
BEGIN:VEVENT
DTSTART:20250712T010000Z
DTEND:20250712T050000Z
X-MICROSOFT-CDO-ALLDAYEVENT:FALSE
SUMMARY:ABC Sponsored Night at the Ballpark
DESCRIPTION:ABC Alaska presents Night at the Ballpark!\n\n\nA free event for all\, come watch Anchorage Bucs play Anchorage Pilots.\n\n\n\nGates open at 5pm\, and the game starts at 6pm. There will be raffle prizes\, ABC swag\, face painting\, and a fun night of baseball for the whole family!
X-ALT-DESC;FMTTYPE=text/html:<h3 style="text-align: center\;"><strong>ABC Alaska presents Night at the Ballpark!</strong></h3>\n<br />\n<em>A free event for all\,</em> come watch Anchorage Bucs play Anchorage Pilots.<br />\n<br />\nGates open at 5pm\, and the game starts at 6pm. There will be raffle prizes\, ABC swag\, face painting\, and a fun night of baseball for the whole family!
LOCATION:Mulcahy Stadium 498 E. 16th Ave\, Anchorage\, AK 99501
UID:e.1417.14513
SEQUENCE:3
DTSTAMP:20260423T045543Z
URL:https://business.anchoragechamber.org/events/details/abc-sponsored-night-at-the-ballpark-14513
END:VEVENT

END:VCALENDAR
