BEGIN:VCALENDAR
VERSION:2.0
PRODID:-//ChamberMaster//Event Calendar 2.0//EN
METHOD:PUBLISH
X-PUBLISHED-TTL:P3D
REFRESH-INTERVAL:P3D
CALSCALE:GREGORIAN
BEGIN:VEVENT
DTSTART:20241116T030000Z
DTEND:20241116T070000Z
X-MICROSOFT-CDO-ALLDAYEVENT:FALSE
SUMMARY:67th Annual Gold Pan Awards "A Night on Broadway"
DESCRIPTION:The Anchorage Chamber of Commerce business community will come together to celebrate outstanding companies\, organizations\, and entrepreneurs in business excellence and community service.\n\n\n\n\nThe fifteen finalists in five categories are:\n\n\n\nDistinguished Community Service (Large)\n\n\n	GCI\n	Nuvision Credit Union Alaska\n	Renewal by Andersen of Alaska\n\n\nDistinguished Community Service (Small)\n\n\n	Anchorage Community Theatre\n	Photo Emporium\n	Shiloh Community Housing Inc.\n\n\nBusiness Excellence\n\n\n	Locally Grown Restaurants\n	NANA Management Services\n	Peppercini's Catering\n\n\nEntrepreneurial Excellence\n\n\n	Balanced CPAs\n	Frontier Health and Wellness\n	Hooman for Hire\n\n\nNon-Profit: Above & Beyond\n\n\n	Alaska Behavorial Health\n	Alaska Center for the Performing Arts\n	Big Brothers Big Sisters of Alaska\n\n	 \n\n\n\n\n\nBECOME A SPONSOR\n\nThe Anchorage Chamber invites you to sponsor the highly anticipated Gold Pan Awards ceremony\, a premier event that will bring together over 400 distinguished professionals\, industry leaders\, and influential decision-makers. Sponsors gain exposure and recognition in front of an engaged audience to celebrate excellence in business. This is a unique opportunity to showcase your brand's commitment to innovation and leadership while connecting with potential clients and partners.\n\n\n\nSponsorship Benefits Include:\n\n\n	Prominent logo placement on event materials and webpages\n	Acknowledgment during the ceremony and in the event program\n	Complimentary tickets and VIP access for your team\n	and more!\n\nDOWNLOAD SPONSORSHIP PACKET\n\n \n\n\n\n\nTo see 2023 finalists and winners\, and to learn more about the nomination and selection process\, visit anchoragechamber.org/gold-pan-awards.
X-ALT-DESC;FMTTYPE=text/html:<h5>The Anchorage Chamber of Commerce business community will come together to celebrate outstanding companies\, organizations\, and entrepreneurs in business excellence and community service.</h5>\n\n<hr />\n<p><br />\nThe fifteen finalists in five categories are:<br />\n<br />\n<strong>Distinguished Community Service (Large)</strong></p>\n\n<ul>\n	<li>GCI</li>\n	<li>Nuvision Credit Union Alaska</li>\n	<li>Renewal by Andersen of Alaska</li>\n</ul>\n\n<p><strong>Distinguished Community Service (Small)</strong></p>\n\n<ul>\n	<li>Anchorage Community Theatre</li>\n	<li>Photo Emporium</li>\n	<li>Shiloh Community Housing Inc.</li>\n</ul>\n\n<p><strong>Business Excellence</strong></p>\n\n<ul>\n	<li>Locally Grown Restaurants</li>\n	<li>NANA Management Services</li>\n	<li>Peppercini&#39\;s Catering</li>\n</ul>\n\n<p><strong>Entrepreneurial Excellence</strong></p>\n\n<ul>\n	<li>Balanced CPAs</li>\n	<li>Frontier Health and Wellness</li>\n	<li>Hooman for Hire</li>\n</ul>\n\n<p><strong>Non-Profit: Above &amp\; Beyond</strong></p>\n\n<ul>\n	<li>Alaska Behavorial Health</li>\n	<li>Alaska Center for the Performing Arts</li>\n	<li>Big Brothers Big Sisters of Alaska<br />\n	&nbsp\;</li>\n</ul>\n\n<hr />\n<p><br />\n<strong>BECOME A SPONSOR</strong></p>\n\n<p>The Anchorage Chamber invites you to sponsor the highly anticipated Gold Pan Awards ceremony\, a premier event that will bring together over 400 distinguished professionals\, industry leaders\, and influential decision-makers.&nbsp\;Sponsors gain exposure and recognition in front of an engaged audience to celebrate excellence in business. This is a unique opportunity to showcase your brand&#39\;s commitment to innovation and leadership while connecting with potential clients and partners.<br />\n<br />\nSponsorship Benefits Include:</p>\n\n<ul>\n	<li>Prominent logo placement on event materials and webpages</li>\n	<li>Acknowledgment during the ceremony and in the event program</li>\n	<li>Complimentary tickets and VIP access for your team</li>\n	<li><em>and more!</em></li>\n</ul>\n<a href="https://drive.google.com/file/d/1WZuztADlvLcGZu_pgXohraGfQ6g5Nk9m/view?usp=sharing" target="_blank"><strong>DOWNLOAD SPONSORSHIP PACKET</strong></a>\n\n<p>&nbsp\;</p>\n\n<hr />\n<p><br />\n<em>To see 2023&nbsp\;finalists and winners\, and to learn more about the nomination and selection process\,&nbsp\;visit&nbsp\;<a href="https://www.anchoragechamber.org/gold-pan-awards" target="_blank">anchoragechamber.org/gold-pan-awards</a>.</em></p>\n
LOCATION:Dena'ina Center\, 3rd floor
UID:e.1417.13139
SEQUENCE:3
DTSTAMP:20260420T192547Z
URL:https://business.anchoragechamber.org/events/details/67th-annual-gold-pan-awards-a-night-on-broadway-13139
END:VEVENT

END:VCALENDAR
