BEGIN:VCALENDAR
VERSION:2.0
PRODID:-//ChamberMaster//Event Calendar 2.0//EN
METHOD:PUBLISH
X-PUBLISHED-TTL:P3D
REFRESH-INTERVAL:P3D
CALSCALE:GREGORIAN
BEGIN:VEVENT
DTSTART:20260322T013000Z
DTEND:20260322T050000Z
X-MICROSOFT-CDO-ALLDAYEVENT:FALSE
SUMMARY:30th Annual Alaska Native Art Auction
DESCRIPTION:Koahnic Broadcast Corporation (KBC) announced that it will host the 30th Annual Alaska Native Art Auction on Saturday\, March 21\, 2026\, at the Hotel Captain Cook in Anchorage\, bringing together artists\, community members\, and supporters to celebrate three decades of Indigenous creativity and voices.
X-ALT-DESC;FMTTYPE=text/html:Koahnic Broadcast Corporation (KBC) announced that it will host the 30th Annual Alaska Native Art Auction on Saturday\, March 21\, 2026\, at the Hotel Captain Cook in Anchorage\, bringing together artists\, community members\, and supporters to celebrate three decades of Indigenous creativity and voices.
LOCATION:The Hotel Captain Cook
UID:e.1417.14833
SEQUENCE:3
DTSTAMP:20260422T171629Z
URL:https://business.anchoragechamber.org/events/details/30th-annual-alaska-native-art-auction-14833
END:VEVENT

END:VCALENDAR
