BEGIN:VCALENDAR
VERSION:2.0
PRODID:-//ChamberMaster//Event Calendar 2.0//EN
METHOD:PUBLISH
X-PUBLISHED-TTL:P3D
REFRESH-INTERVAL:P3D
CALSCALE:GREGORIAN
BEGIN:VEVENT
DTSTART:20260510T170000Z
DTEND:20260511T010000Z
X-MICROSOFT-CDO-ALLDAYEVENT:FALSE
SUMMARY:2026 Mother's Day Celebration & Summer Season
DESCRIPTION:The Alaska Native Heritage Center's summer season begins with our free Annual Mother's Day Celebration on Sunday\, May 10\, 2026! Join us for a full day of cultural activities\, live performances\, guided tours\, and special programming for all ages. Admission is free\, so bring your family and friends for a memorable celebration. Mother's Day highlights include: - Special take-home gift for moms (limited supply) - Free face painting by Color Me Fun - Alaska Native dance performances by ANHC dancers and guest groups - Alaska Native artist vendors - 10% off all items at the Ch'k'iqadi Gallery - Coffee\, savory foods\, sweet treats\, and more at Caf  Di'eshchin - FREE ADMISSION! RSVP on our Facebook event to stay updated on exciting program highlights and announcements as the day approaches.
X-ALT-DESC;FMTTYPE=text/html:The Alaska Native Heritage Center&rsquo\;s summer season begins with our free Annual Mother&rsquo\;s Day Celebration on Sunday\, May 10\, 2026! Join us for a full day of cultural activities\, live performances\, guided tours\, and special programming for all ages. Admission is free\, so bring your family and friends for a memorable celebration. Mother&rsquo\;s Day highlights include: - Special take-home gift for moms (limited supply) - Free face painting by Color Me Fun - Alaska Native dance performances by ANHC dancers and guest groups - Alaska Native artist vendors - 10% off all items at the Ch&#39\;k&#39\;iqadi Gallery - Coffee\, savory foods\, sweet treats\, and more at Caf&eacute\; Di&rsquo\;eshchin - FREE ADMISSION! RSVP on our Facebook event to stay updated on exciting program highlights and announcements as the day approaches.
LOCATION:8800 Heritage Center Drive\, Anchorage\, AK 99504
UID:e.1417.14922
SEQUENCE:3
DTSTAMP:20260424T115734Z
URL:https://business.anchoragechamber.org/events/details/2026-mother-s-day-celebration-summer-season-14922
END:VEVENT

END:VCALENDAR
