BEGIN:VCALENDAR
VERSION:2.0
PRODID:-//ChamberMaster//Event Calendar 2.0//EN
METHOD:PUBLISH
X-PUBLISHED-TTL:P3D
REFRESH-INTERVAL:P3D
CALSCALE:GREGORIAN
BEGIN:VEVENT
DTSTART:20241119T170000Z
DTEND:20241120T010000Z
X-MICROSOFT-CDO-ALLDAYEVENT:FALSE
SUMMARY:2024 Apprenticeship Expo
DESCRIPTION:In celebration of National Apprenticeship Week\, we invite you to attend the Alaska Works Apprenticeship Expos in Anchorage and Fairbanks. These dynamic events spotlight the opportunities within the construction industry's apprenticeship programs.\n\n\n\nHands-On Activities: Immerse yourself in the construction industry with hands-on experiences such as building a sawhorse\, crafting a toolbox\, and trying your hand at welding and soldering.\n\n\n\nInteractive Displays: Engage with cutting-edge equipment and technology through interactive displays and simulators that promise to ignite your inspiration.\n\n\n\nMeet Industry Professionals: Connect with seasoned professionals eager to share insights into apprenticeship programs\, training\, and the myriad career opportunities within the construction sector.\n\n\n\nLearn About Apprenticeships: Gain profound insights into the apprenticeship pathway and how it serves as a gateway to a fulfilling and lucrative career.
X-ALT-DESC;FMTTYPE=text/html:In celebration of National Apprenticeship Week\, we invite you to attend the Alaska Works Apprenticeship Expos in Anchorage and Fairbanks. These dynamic events spotlight the opportunities within the construction industry&#39\;s apprenticeship programs.<br />\n<br />\n<strong>Hands-On Activities:</strong> Immerse yourself in the construction industry with hands-on experiences such as building a sawhorse\, crafting a toolbox\, and trying your hand at welding and soldering.<br />\n<br />\n<strong>Interactive Displays: </strong>Engage with cutting-edge equipment and technology through interactive displays and simulators that promise to ignite your inspiration.<br />\n<br />\n<strong>Meet Industry Professionals:</strong> Connect with seasoned professionals eager to share insights into apprenticeship programs\, training\, and the myriad career opportunities within the construction sector.<br />\n<br />\n<strong>Learn About Apprenticeships</strong>: Gain profound insights into the apprenticeship pathway and how it serves as a gateway to a fulfilling and lucrative career.
LOCATION:Alaska Works Training Center 161 Klevin St.
UID:e.1417.13503
SEQUENCE:3
DTSTAMP:20260420T192547Z
URL:https://business.anchoragechamber.org/events/details/2024-apprenticeship-expo-13503
END:VEVENT

END:VCALENDAR
