BEGIN:VCALENDAR
VERSION:2.0
PRODID:-//ChamberMaster//Event Calendar 2.0//EN
METHOD:PUBLISH
X-PUBLISHED-TTL:P3D
REFRESH-INTERVAL:P3D
CALSCALE:GREGORIAN
BEGIN:VEVENT
DTSTART:20210224T210000Z
DTEND:20210224T220000Z
X-MICROSOFT-CDO-ALLDAYEVENT:FALSE
SUMMARY:2021 State of the University Address
DESCRIPTION:Please join us for the livestream of University of Alaska Interim President Pitney's State of the University Address on February 24. The livestream will be available beginning at 12:00 Noon at www.alaska.edu/pres/sou.
X-ALT-DESC;FMTTYPE=text/html:Please join us for the livestream of University of Alaska Interim President Pitney&rsquo\;s State of the University Address on February 24. The livestream will be available beginning at 12:00 Noon at <a href="http://www.alaska.edu/pres/sou" target="_blank">www.alaska.edu/pres/sou</a>.
LOCATION:
UID:e.1417.9326
SEQUENCE:3
DTSTAMP:20260423T104858Z
URL:https://business.anchoragechamber.org/events/details/2021-state-of-the-university-address-9326
END:VEVENT

END:VCALENDAR
