BEGIN:VCALENDAR
VERSION:2.0
PRODID:-//ChamberMaster//Event Calendar 2.0//EN
METHOD:PUBLISH
X-PUBLISHED-TTL:P3D
REFRESH-INTERVAL:P3D
CALSCALE:GREGORIAN
BEGIN:VEVENT
DTSTART:20190427T220000Z
DTEND:20190428T020000Z
X-MICROSOFT-CDO-ALLDAYEVENT:FALSE
SUMMARY:2019 Citywide Cleanup Week Kickoff Event
DESCRIPTION:Join us as we kickoff Cleanup Week! \n\n\n\nKicking off Anchorage Chamber Citywide Cleanup Week in a neighborhood near you!\n\n\n\nAs the snow melts\, we are left with garbage covering our roadways\, parks and trails. We need your help!  Join your community & Anchorage's dedicated trash haulers in various commercial neighborhoods around town to clean up what winter left behind!  It's because of volunteers like you we are able to remove tons of trash each spring - returning Anchorage to the clean\, healthy\, safe and beautiful place we call home. Grab a group of friends\, choose a collection station from the list below\, and spend the afternoon making a difference in our community.\n\n\n\nOrange Citywide Cleanup trash bags\, gloves\, and trash disposal will be provided at each participating location during the 4-hour event.  \n\n\n\n\n\nCOLLECTION STATIONS: MAP\n\nAble Body Shop Southside & Total Truck (7700 Homer Dr.) FLYER\n\nHelp the Northern Waste team cleanup the surrounding areas between Dowling Rd & Dimond Blvd. Bring the family! Kids LOVE the garbage trucks! Take a seat in the truck\, seat how it works\, & honk the horn! Complete with refreshments & door prizes!\n\n\n\nAlaska USA - Eagle River (12155 Old Glen Hwy.) FLYER\n\nJoin Bin There Dump That as they cleanup Eagle River! After\, come to their Volunteer Appreciation BBQ at Town Square Commons Park from 6pm to 9pm! Featuring Food\, Fun\, Door Prizes & Live Music for all Ages! **Prizes donated by local Eagle River Businesses\n\n\n\nBlue Arctic Waste Solutions (2111 Viking Dr)\n\nFred Meyer (7701 Debarr Road)\n\nAndy's ACE Hardware (240 Muldoon Rd) FLYER\n\nAssist Blue Arctic Waste Solutions cleanup Eastside. Compete to pick up the most trash in order to WIN a free night stay in a studio suite at Staybridge Hotel\, a kids bike\, or restaurant gift cards. There will also be FREE coffee and doughnuts!\n\n\n\nCarrs Safeway (1501 Huffman Rd.) FLYER\n\nJoin Denali Disposal Inc. at the Carrs Safeway on Huffman for an afternoon of fun as we clean up the Southside!Anchorage Sand & Gravel will be grilling up a hot dog barbecue generously sponsored by Carrs Safeway and 7 Up of Alaska. Prize giveaways provided by Healthy Futures\, Bradley House\, Get Air\, H2Oasis\, Uncle Joe's and more! \n\n\n\nThe Lakefront Anchorage (4800 Spenard Rd.) FLYER\n\nAlaska Waste is joining with Spenard residents and businesses for Citywide Cleanup! There will be plenty of food\, games & door prizes for participants of all ages who come to help rejuvenate Anchorage.\n\n\n\n----------------------------------------------------------------\n\n\n\nTrash in official orange Citywide Cleanup trash bags from Anchorage residents will be accepted for free disposal at Solid Waste Services facilities ONLY during Citywide Cleanup Week\, April 27 through May 4\, 2019. These facilities include the Girdwood Transfer Station\, Central Transfer Station\, and Anchorage Regional Landfill. Directions and hours can be found on the Solid Waste Services website at Muni.org/sws. (To be accepted without a fee\, orange bags must be delivered separately from other waste. No yard waste will be accepted.)\n\n\n\nFREE DUMP DAYS\n\nOn April 27 and May 4\, Solid Waste Services will accept free residential loads (no larger than a pickup truck) from Anchorage residents from 8 A.M. to 5 P.M. at the Anchorage Regional Landfill. The Girdwood Transfer Station will also accept free residential loads from 10 A.M. to 5 P.M. Please note that the Central Transfer Station will be closed on these two Saturdays.\n\n\n\nAll loads must be secured or covered to prevent littering in transit. Uncovered loads will be subject to fines. Visit Muni.org/sws for more information\, or call (907) 343-6250\, Monday through Friday\, 8 A.M. to 4 P.M.\n\n\n\nDon't forget to continue cleaning up throughout the week and share your photos on social media using the hashtags  #anccitywidecleanup.\n\n\n\nCLICK HERE for more info on Citywide Cleanup Week\, team registration\, and sponsorship opportunities.
X-ALT-DESC;FMTTYPE=text/html:<p><strong>Join us as we kickoff Cleanup Week!&nbsp\;</strong><br />\n<br />\nKicking off Anchorage Chamber Citywide Cleanup Week in a neighborhood near you!<br />\n<br />\nAs the snow melts\, we are left with garbage covering our roadways\, parks and trails. We need your help!&nbsp\; Join your community &amp\; Anchorage&#39\;s dedicated trash haulers in various commercial neighborhoods around town&nbsp\;to clean up what winter left behind!&nbsp\; It&#39\;s because of volunteers like you we are able to remove tons of trash each spring - returning Anchorage to the clean\, healthy\, safe and beautiful place we call home.&nbsp\;Grab a group of friends\, choose a collection station&nbsp\;from the list below\, and spend the afternoon making&nbsp\;a difference in our community.<br />\n<br />\n<strong>Orange Citywide Cleanup trash bags\, gloves\, and trash disposal will be provided at&nbsp\;each participating location during the 4-hour event.&nbsp\;&nbsp\;</strong><br />\n<br />\n<br />\n<strong>COLLECTION STATIONS: <a href="https://www.dropbox.com/s/az2nm1jcutpp9oz/Combined%20Kickoff%20Event%20Map.pdf?dl=0"><span style="color:#FF8C00\;">MAP</span></a></strong><br />\n<strong><span style="white-space: pre-wrap\; background-color: rgb(255\, 255\, 255)\;">Able Body Shop Southside &amp\; Total Truck </span></strong><em><span style="white-space: pre-wrap\; background-color: rgb(255\, 255\, 255)\;">(7700 Homer Dr.) <a href="https://www.dropbox.com/s/7ny3c3pqojyxf1k/Northern%20Waste%20-%20Citywide%20Kickoff%20Event%20Flyer%20%282%29.pdf?dl=0"><span style="color:#FF8C00\;">FLYER</span></a></span></em><br />\nHelp the Northern Waste team&nbsp\;cleanup the surrounding areas between Dowling Rd &amp\; Dimond Blvd. Bring the family!&nbsp\;Kids LOVE the garbage trucks! Take a seat in the truck\, seat how it works\, &amp\; honk the horn! Complete with refreshments &amp\; door prizes!<br />\n<br />\n<strong style="font-size: 14px\; white-space: pre-wrap\;">Alaska USA - Eagle River</strong><span style="white-space: pre-wrap\;"> </span><em style="font-size: 14px\; white-space: pre-wrap\;">(12155 Old Glen Hwy.) </em><a href="https://www.dropbox.com/s/h2metjxdzc6jrps/Bin%20There%20Dump%20That%20Citywide%20Kickoff%20Event%20Flyer%20%281%29%20%281%29.pdf?dl=0"><em style="font-family: arial\; font-size: 14px\;"><span style="white-space: pre-wrap\;"><span style="color: rgb(255\, 140\, 0)\;">FLYER</span></span></em></a><br />\nJoin Bin There Dump That as they cleanup Eagle River! After\,&nbsp\;come to their Volunteer Appreciation BBQ at Town Square Commons Park from 6pm to 9pm! Featuring Food\, Fun\, Door Prizes &amp\; Live Music for all Ages! **Prizes donated by local Eagle River Businesses<br />\n<br />\n<strong>Blue Arctic Waste Solutions</strong> <em>(2111 Viking Dr)</em><br />\n<strong>Fred Meyer</strong>&nbsp\;<em>(7701 Debarr Road)</em><br />\n<strong>Andy&#39\;s ACE Hardware</strong>&nbsp\;<em>(240 Muldoon Rd)&nbsp\;</em><a href="https://www.dropbox.com/s/55y5nd5cl57p4pp/Blue%20Arctic%20Citywide%20Kickoff%20Event%20Flyer.pdf?dl=0"><em style="font-family: arial\; font-size: 14px\;"><span style="white-space: pre-wrap\;"><span style="color: rgb(255\, 140\, 0)\;">FLYER</span></span></em></a><br />\nAssist Blue Arctic Waste Solutions cleanup Eastside. Compete to pick up the most trash in order&nbsp\;to WIN a free night stay in a studio suite at Staybridge Hotel\, a kids bike\, or restaurant gift cards.&nbsp\;There&nbsp\;will also be FREE coffee and doughnuts!<br />\n<br />\n<strong>Carrs Safeway</strong> <em>(1501 Huffman Rd.)&nbsp\;</em><a href="https://www.dropbox.com/s/vlvbflbv2u5an6i/Denali%20Disposal%20-%20Citywide%20Kickoff%20Event%20Flyer%20%281%29.pdf?dl=0"><em style="font-family: arial\; font-size: 14px\;"><span style="white-space: pre-wrap\;"><span style="color: rgb(255\, 140\, 0)\;">FLYER</span></span></em></a><br />\nJoin Denali Disposal Inc. at the Carrs Safeway on Huffman for an afternoon of fun as we clean up the Southside!Anchorage Sand &amp\; Gravel will be grilling up a hot dog barbecue generously sponsored by Carrs Safeway and 7 Up of Alaska. Prize giveaways provided by Healthy Futures\, Bradley House\, Get Air\, H2Oasis\, Uncle Joe&rsquo\;s and more!&nbsp\;<br />\n<br />\n<span style="background-color: rgb(255\, 255\, 255)\; white-space: pre-wrap\;"><strong>The Lakefront Anchorage</strong> <em>(4800 Spenard Rd.) </em></span><a href="https://www.dropbox.com/s/ivlee39rvwvof53/AK%20Waste%20Citywide%20Kickoff%20Event%20Flyer.pdf?dl=0"><em style="font-family: arial\; font-size: 14px\;"><span style="white-space: pre-wrap\;"><span style="color: rgb(255\, 140\, 0)\;">FLYER</span></span></em></a><br />\nAlaska Waste is joining with Spenard residents and businesses for Citywide Cleanup! There will be plenty of food\, games &amp\; door prizes for participants of all ages who come to help rejuvenate Anchorage.<br />\n<br />\n----------------------------------------------------------------<br />\n<br />\nTrash in official orange Citywide Cleanup trash bags from Anchorage residents will be accepted for free disposal at Solid Waste Services facilities ONLY during Citywide Cleanup Week\, April 27 through May 4\, 2019. These facilities include the Girdwood Transfer Station\, Central Transfer Station\, and Anchorage Regional Landfill. Directions and hours can be found on the Solid Waste Services website at <a href="http://www.Muni.org/sws">Muni.org/sws</a>. (To be accepted without a fee\, orange bags must be delivered separately from other waste. No yard waste will be accepted.)<br />\n<br />\n<strong>FREE DUMP DAYS</strong><br />\nOn April 27 and May 4\, Solid Waste Services will accept free residential loads (no larger than a pickup truck) from Anchorage residents from 8 A.M. to 5 P.M. at the Anchorage Regional Landfill. The Girdwood Transfer Station will also accept free residential loads from 10 A.M. to 5 P.M. Please note that the Central Transfer Station will be closed on these two Saturdays.<br />\n<br />\nAll loads must be secured or covered to prevent littering in transit. Uncovered loads will be subject to fines. Visit Muni.org/sws for more information\, or call (907) 343-6250\, Monday through Friday\, 8 A.M. to 4 P.M.<br />\n<br />\nDon&#39\;t forget to continue&nbsp\;cleaning up throughout the week and share your photos&nbsp\;on social media using the hashtags &nbsp\;<a href="https://www.facebook.com/search/str/%23anccitywidecleanup/keywords_search">#anccitywidecleanup</a>.<br />\n<br />\n<a href="https://business.anchoragechamber.org/events/details/2019-citywide-cleanup-week-7256">CLICK HERE</a> for&nbsp\;more info on Citywide Cleanup Week\, team registration\, and sponsorship opportunities.</p>\n
LOCATION:
UID:e.1417.7324
SEQUENCE:3
DTSTAMP:20260422T162743Z
URL:https://business.anchoragechamber.org/events/details/2019-citywide-cleanup-week-kickoff-event-04-27-2019-7324
END:VEVENT

END:VCALENDAR
